1.0000000000
0.0000000000
0.0000000000
-1.0000000000
586649.5000000000
4733975.5000000000
