1.0000000000
0.0000000000
0.0000000000
-1.0000000000
591856.5000000000
4727105.5000000000
