1.0000000000
0.0000000000
0.0000000000
-1.0000000000
607109.5000000000
4734278.5000000000
