1.0000000000
0.0000000000
0.0000000000
-1.0000000000
607217.5000000000
4727337.5000000000
