1.0000000000
0.0000000000
0.0000000000
-1.0000000000
617339.5000000000
4734452.5000000000
