1.0000000000
0.0000000000
0.0000000000
-1.0000000000
617457.5000000000
4727512.5000000000
