1.0000000000
0.0000000000
0.0000000000
-1.0000000000
612337.5000000000
4727423.5000000000
