1.0000000000
0.0000000000
0.0000000000
-1.0000000000
622454.5000000000
4734545.5000000000
