1.0000000000
0.0000000000
0.0000000000
-1.0000000000
632684.5000000000
4734742.5000000000
