1.0000000000
0.0000000000
0.0000000000
-1.0000000000
653298.5000000000
4728241.5000000000
