1.0000000000
0.0000000000
0.0000000000
-1.0000000000
581698.5000000000
4720028.5000000000
