1.0000000000
0.0000000000
0.0000000000
-1.0000000000
576110.5000000000
4761607.5000000000
