1.0000000000
0.0000000000
0.0000000000
-1.0000000000
576187.5000000000
4754667.5000000000
