1.0000000000
0.0000000000
0.0000000000
-1.0000000000
576265.5000000000
4747726.5000000000
