1.0000000000
0.0000000000
0.0000000000
-1.0000000000
576419.5000000000
4733846.5000000000
