1.0000000000
0.0000000000
0.0000000000
-1.0000000000
576496.5000000000
4726906.5000000000
