1.0000000000
0.0000000000
0.0000000000
-1.0000000000
576573.5000000000
4719965.5000000000
