1.0000000000
0.0000000000
0.0000000000
-1.0000000000
576727.5000000000
4706085.5000000000
