1.0000000000
0.0000000000
0.0000000000
-1.0000000000
576803.5000000000
4699146.5000000000
