1.0000000000
0.0000000000
0.0000000000
-1.0000000000
576956.5000000000
4685266.5000000000
