1.0000000000
0.0000000000
0.0000000000
-1.0000000000
577033.5000000000
4678326.5000000000
