1.0000000000
0.0000000000
0.0000000000
-1.0000000000
577185.5000000000
4664447.5000000000
