1.0000000000
0.0000000000
0.0000000000
-1.0000000000
341771.5000000000
4769881.5000000000
