1.0000000000
0.0000000000
0.0000000000
-1.0000000000
351960.5000000000
4769653.5000000000
