1.0000000000
0.0000000000
0.0000000000
-1.0000000000
362149.5000000000
4769441.5000000000
