1.0000000000
0.0000000000
0.0000000000
-1.0000000000
357054.5000000000
4769545.5000000000
