1.0000000000
0.0000000000
0.0000000000
-1.0000000000
392715.5000000000
4768895.5000000000
