1.0000000000
0.0000000000
0.0000000000
-1.0000000000
397809.5000000000
4768817.5000000000
