1.0000000000
0.0000000000
0.0000000000
-1.0000000000
260257.5000000000
4772247.5000000000
