1.0000000000
0.0000000000
0.0000000000
-1.0000000000
265352.5000000000
4772071.5000000000
