1.0000000000
0.0000000000
0.0000000000
-1.0000000000
682907.5000000000
4770657.5000000000
