1.0000000000
0.0000000000
0.0000000000
-1.0000000000
738891.5000000000
4772429.5000000000
