1.0000000000
0.0000000000
0.0000000000
-1.0000000000
733801.5000000000
4772249.5000000000
