1.0000000000
0.0000000000
0.0000000000
-1.0000000000
596389.5000000000
4768821.5000000000
