1.0000000000
0.0000000000
0.0000000000
-1.0000000000
591300.5000000000
4768747.5000000000
