1.0000000000
0.0000000000
0.0000000000
-1.0000000000
616746.5000000000
4769155.5000000000
