1.0000000000
0.0000000000
0.0000000000
-1.0000000000
611657.5000000000
4769066.5000000000
