1.0000000000
0.0000000000
0.0000000000
-1.0000000000
637103.5000000000
4769549.5000000000
