1.0000000000
0.0000000000
0.0000000000
-1.0000000000
576032.5000000000
4768548.5000000000
